BEGIN:VCALENDAR
PRODID:-//eluceo/ical//2.0/EN
VERSION:2.0
CALSCALE:GREGORIAN
BEGIN:VEVENT
UID:riviera-event-171
DTSTAMP:20260421T120920Z
SUMMARY:Tulum Air Show 2026
DESCRIPTION:April 23 - 26 | Tulum Air Show 2026 (Tulum)Tulum hosts a four-d
 ay aviation and motorsport spectacle hosted by the Tulum International Air
 port featuring aircraft exhibitions\, Mexican Air Force aerial displays\, 
 and the Gran Premio Tulum 100 of the NASCAR México Series. The weekend co
 ncludes with a beachfront aerial show over Parque del Jaguar. More info he
 re
URL:https://events.puertoaventurasliving.com/events/tulum-air-show-2026
DTSTART:20260423T000000
DTEND:20260426T235900
LOCATION:Tulum\, Q.R.
END:VEVENT
END:VCALENDAR
