BEGIN:VCALENDAR
PRODID:-//eluceo/ical//2.0/EN
VERSION:2.0
CALSCALE:GREGORIAN
BEGIN:VEVENT
UID:riviera-event-172
DTSTAMP:20260421T194315Z
SUMMARY:TITIZÉ – A Venetian Dream
DESCRIPTION:April 23 – May 3 | TITIZÉ – A Venetian Dream (Cancún)An i
 nternationally acclaimed production blending contemporary theatre\, modern
  circus\, and high-level acrobatics arrives at Teatro de la Ciudad for an 
 11-day season. Created in collaboration with European cultural institution
 s\, this poetic\, family-friendly spectacle transforms the stage into a dr
 eamlike visual experience. Tickets on sale here&nbsp\;or the theater box o
 ffice.&nbsp\;
URL:https://events.puertoaventurasliving.com/events/titize-a-venetian-dream
DTSTART:20260423T200000
DTEND:20260503T220000
LOCATION:Cancun\, Q.R.
END:VEVENT
END:VCALENDAR
