BEGIN:VCALENDAR
PRODID:-//eluceo/ical//2.0/EN
VERSION:2.0
CALSCALE:GREGORIAN
BEGIN:VEVENT
UID:riviera-event-187
DTSTAMP:20260421T194135Z
SUMMARY:The Dark Side of the Rainbow
DESCRIPTION:April 24 | The Dark Side of the Rainbow (Cozumel)Experience one
  of rock’s most legendary syncs live at the Cozumel Museum from 6:30 to 
 7:45 PM. The Dark Side of the Rainbow pairs a big-screen screening of The 
 Wizard of Oz with Pink Floyd’s Dark Side of the Moon performed live in p
 erfect synchronization. This immersive\, psychedelic experience has fascin
 ated fans for decades—and now it comes to life on stage.&nbsp\;Limited s
 eating available for this unique fusion of classic cinema and iconic music
 . Advance tickets recommended. Purchase tickets here
URL:https://events.puertoaventurasliving.com/events/the-dark-side-of-the-ra
 inbow
DTSTART:20260424T183000
DTEND:20260424T194500
LOCATION:Cozumel\, Q.R.
END:VEVENT
END:VCALENDAR
