BEGIN:VCALENDAR
PRODID:-//eluceo/ical//2.0/EN
VERSION:2.0
CALSCALE:GREGORIAN
BEGIN:VEVENT
UID:riviera-event-637
DTSTAMP:20260421T194003Z
SUMMARY:Texas Hold ’Em for a Cause at Turtle Bay
DESCRIPTION:Thursday\, April 23 | Texas Hold ’Em Charity Poker Tournament
  (Akumal)A few seats are still open for April’s Texas Hold ’Em Poker T
 ournament at Turtle Bay Café in Akumal — now hosted in their new air-co
 nditioned activity room.The tournament benefits Hekab Be Activity &amp\; L
 earning Center\, with half of the buy-in going directly to support their p
 rograms and the other half awarded to the winners. It’s a small\, friend
 ly game limited to just 10 players\, so early registration is essential. P
 lay for a cause — and maybe leave a winner.Check-in begins at 12:30 PM\,
  with cards on the table at 1:00 PM sharp.Turtle Bay Café | Akumal PlayaT
 hursday\, April 23 | 12:30 PM check-in | 1:00 PM start📲 Must register i
 n advance via WhatsApp (text only): +1 678 471 9572
URL:https://events.puertoaventurasliving.com/events/texas-hold-em-for-a-cau
 se-at-turtle-bay
DTSTART:20260423T123000
DTEND:20260423T150000
LOCATION:Akumal\, Q.R.
END:VEVENT
END:VCALENDAR
