BEGIN:VCALENDAR
PRODID:-//eluceo/ical//2.0/EN
VERSION:2.0
CALSCALE:GREGORIAN
BEGIN:VEVENT
UID:riviera-event-681
DTSTAMP:20260421T194003Z
SUMMARY:Stand-Up Comedy ft. Harmony McElligot
DESCRIPTION:Wednesday\, April 22 | Stand-Up Comedy with Harmony McElligot a
 t Zitta Playa (Playa del Carmen)International stand-up comedy returns to P
 laya del Carmen with a special English-language show featuring two-time Em
 my nominee Harmony McElligot.With a special on Amazon Prime and appearance
 s on Comedy Central\, HBO\, and IFC\, plus two Emmy nominations for his wo
 rk on Robot Chicken\, Harmony is flying in from Los Angeles for one night 
 only.📍 Zitta Playa\, Calle 12 Nte &amp\; Av. 15\, Playa del Carmen📅 
 April 22 | 8:00 PM🎟️ Tickets: iguanacomedy.com
URL:https://events.puertoaventurasliving.com/events/stand-up-comedy-ft-harm
 ony-mcelligot
DTSTART:20260422T200000
DTEND:20260422T230000
LOCATION:Playa del Carmen\, Q.R.
END:VEVENT
END:VCALENDAR
