BEGIN:VCALENDAR
PRODID:-//eluceo/ical//2.0/EN
VERSION:2.0
CALSCALE:GREGORIAN
BEGIN:VEVENT
UID:riviera-event-518
DTSTAMP:20260421T121442Z
SUMMARY:Raíces: A Culinary Experience at The Fives Oceanfront
DESCRIPTION:Friday\, April 17 | Raíces: A Culinary Experience (Puerto More
 los)Raíces returns with an evening designed to celebrate the flavors and 
 traditions that define Mexican cuisine — elevated\, refined\, and rooted
  in heritage.Held on the rooftop at The Fives Oceanfront in Puerto Morelos
 \, this 360° dining experience pairs live music with a thoughtfully curat
 ed five-course menu inspired by regional ingredients and classic technique
 s. Agave selections will be available to complement the evening.Menu Highl
 ights: Tuna ceviche with passion fruit Baby corn on the cob Traditional ba
 rbacoa Smoked picanha in date mole Mamey crème brûléeThe Fives Oceanfro
 nt Rooftop | Puerto MorelosFriday\, April 17 | 7:00 PM$75 USD per personBe
 verages not includedSeating is limited. Reservations are handled via Faceb
 ook Messenger through The Fives Oceanfront page. A secure payment link wil
 l be provided to confirm your spot.An intimate night of food\, music\, and
  ocean views — from the roots up.
URL:https://events.puertoaventurasliving.com/events/raices-a-culinary-exper
 ience-at-the-fives-oceanfront
DTSTART:20260417T190000
DTEND:20260417T230000
LOCATION:Puerto Morelos\, Q.R.
END:VEVENT
END:VCALENDAR
