BEGIN:VCALENDAR
PRODID:-//eluceo/ical//2.0/EN
VERSION:2.0
CALSCALE:GREGORIAN
BEGIN:VEVENT
UID:riviera-event-704
DTSTAMP:20260421T194422Z
SUMMARY:NASCAR Mexico Series in Tulum
DESCRIPTION:For the first time ever\, the NASCAR México Series will race a
 t the Aeropuerto Internacional de Tulum\, transforming the runway into a t
 emporary oval for the high-octane Tulum 100 on April 25–26\, 2026.Expect
  the full spectacle of V8 engines\, tactical qualifying battles\, and a ch
 ampionship showdown—all set inside one of Mexico’s newest internationa
 l airports.Saturday: Qualifying Heats Drivers fight for position in precis
 ion-timed heats where every fraction of a second counts.Sunday: Tulum 100 
 Main Race The headline event. A full NASCAR México Series race with podiu
 m ceremony and official celebrations.Your two-day pass includes access to 
 the Entertainment Hangar and Fan Zone\, featuring activations\, immersive 
 experiences\, and food and beverage options throughout the weekend.📍 Ae
 ropuerto Internacional de Tulum&nbsp\;📅 April 25–26\, 2026🎟 Ticket
  Options: 💎 Grada A – Paddock Experience (oval + paddock access) from
  $2\,884 MXN (2-day pass) 🔥 General Admission from $1\,100 MXN + fees
URL:https://events.puertoaventurasliving.com/events/nascar-mexico-series-in
 -tulum
DTSTART:20260425T000000
DTEND:20260426T235900
LOCATION:Tulum\, Q.R.
END:VEVENT
END:VCALENDAR
