BEGIN:VCALENDAR
PRODID:-//eluceo/ical//2.0/EN
VERSION:2.0
CALSCALE:GREGORIAN
BEGIN:VEVENT
UID:riviera-event-415
DTSTAMP:20260423T091228Z
SUMMARY:Jungle Fish 8th Anniversary Celebration
DESCRIPTION:Friday April 17 | Jungle Fish Beach Club Annoversary Party (Aku
 mal)Join us as we celebrate our 8th Anniversary with a night full of music
 \, culture\, and beachfront vibes. We’re marking the occasion with live 
 entertainment and a special Traditional Dance Presentation from Yucatán\,
  bringing the color\, rhythm\, and heritage of the region to the sand.Expe
 ct an unforgettable evening by the sea with great energy\, delicious food 
 and drinks\, and the warm\, festive atmosphere that makes Jungle Fish Beac
 h Club so special.Friday\, April 17Live Music 6:00 PM – 8:00 PMTradition
 al Dance PerformanceCome celebrate eight amazing years with us. Reserve yo
 ur spot now and be part of the party!
URL:https://events.puertoaventurasliving.com/events/jungle-fish-8th-anniver
 sary-celebration
DTSTART:20260417T180000
DTEND:20260417T230000
LOCATION:Akumal\, Q.R.
END:VEVENT
END:VCALENDAR
