BEGIN:VCALENDAR
PRODID:-//eluceo/ical//2.0/EN
VERSION:2.0
CALSCALE:GREGORIAN
BEGIN:VEVENT
UID:riviera-event-693
DTSTAMP:20260421T193718Z
SUMMARY:Happy Hour Loteria at Latitude 20°
DESCRIPTION:Monday\, April 27 | Lotería with Seaside Rotary at Restaurant 
 Latitude 20° (Puerto Aventuras)Seaside Rotary invites you to an afternoon
  of Lotería — Mexico’s classic bingo-style game — with great prizes
  and plenty of fun.Your first card is 200 pesos\, additional cards are 100
  pesos\, and there’s no limit on how many you can play. Enjoy 2x1 happy 
 hour drink specials while you try your luck.📍 Restaurant Latitude 20°
 📅 April 27 | 4:00 PM🎟️ 200 pesos (first card) | 100 pesos (additio
 nal cards)🍹 2x1 Happy Hour Drink Specials
URL:https://events.puertoaventurasliving.com/events/happy-hour-loteria-at-l
 atitude-20
DTSTART:20260427T160000
DTEND:20260427T180000
LOCATION:Puerto Aventuras\, Q.R.
END:VEVENT
END:VCALENDAR
