BEGIN:VCALENDAR
PRODID:-//eluceo/ical//2.0/EN
VERSION:2.0
CALSCALE:GREGORIAN
BEGIN:VEVENT
UID:riviera-event-170
DTSTAMP:20260421T121442Z
SUMMARY:Festival de Cerveza del Caribe - 1st Edition
DESCRIPTION:April 17 – 19 | 1st Caribbean Beer Festival (Puerto Morelos)E
 njoy a seaside celebration at Ventana al Mar featuring 30+ national and in
 ternational craft breweries\, guided tastings\, live music\, food vendors\
 , and cultural activities in a family-friendly setting. Passes available h
 ere
URL:https://events.puertoaventurasliving.com/events/festival-de-cerveza-del
 -caribe-1st-edition
DTSTART:20260417T000000
DTEND:20260419T235900
LOCATION:Puerto Morelos\, Q.R.
END:VEVENT
END:VCALENDAR
