BEGIN:VCALENDAR
PRODID:-//eluceo/ical//2.0/EN
VERSION:2.0
CALSCALE:GREGORIAN
BEGIN:VEVENT
UID:riviera-event-667
DTSTAMP:20260421T194135Z
SUMMARY:Donnie Darko 25th Anniversary Screening
DESCRIPTION:Saturday\, April 25 | Donnie Darko 25th Anniversary Screening a
 t ElCineClub (Playa del Carmen)ElCineClub presents a special 25th annivers
 ary screening of Donnie Darko (Richard Kelly / USA / 2001 / 113 min)\, res
 tored and back on the big screen. The film will be screened in English wit
 h Spanish subtitles.After narrowly escaping a bizarre accident\, Donnie be
 gins receiving visits from a mysterious giant rabbit who claims the world 
 is about to end. What follows is a mind-bending journey through parallel r
 ealities\, fate\, and teenage alienation. Written and directed by Richard 
 Kelly\, this 2001 cult classic never had an official theatrical release in
  Mexico and has since become a defining film of its era\, known for its ha
 unting atmosphere and unforgettable soundtrack.Now\, 25 years later\, it r
 eturns in a restored version for a limited screening.El Cine Club | Parque
  La Ceiba\, Playa del Carmen Saturday\, April 25 | 8:00 PM Limited seating
  – reserve your spotA rare chance to experience this cult favorite the w
 ay it was meant to be seen: in a dark theater\, on the big screen.&nbsp\;
URL:https://events.puertoaventurasliving.com/events/donnie-darko-25th-anniv
 ersary-screening
DTSTART:20260425T200000
DTEND:20260425T230000
LOCATION:Playa del Carmen\, Q.R.
END:VEVENT
END:VCALENDAR
