BEGIN:VCALENDAR
PRODID:-//eluceo/ical//2.0/EN
VERSION:2.0
CALSCALE:GREGORIAN
BEGIN:VEVENT
UID:riviera-event-14
DTSTAMP:20260421T121241Z
SUMMARY:Don Quixote – Ballet Nacional de Panamá in Playa del Carmen
DESCRIPTION:For the first time ever\, the prestigious Ballet Nacional de Pa
 namá arrives at Teatro de la Ciudad with a spectacular gala performance o
 f Don Quixote — one of the most vibrant and beloved works in the interna
 tional ballet repertoire.This dazzling production features 30 dancers on s
 tage\, bringing energy\, color\, and technical brilliance to a night desig
 ned for true lovers of dance. Expect dramatic storytelling\, powerful chor
 eography\, and the kind of performance that keeps you fully immersed from 
 curtain up to final bow.Teatro de la Ciudad | Playa del CarmenApril 15 &am
 p\; 16 | Curtain time 7:00 PMTickets available at tusboletos.mx
URL:https://events.puertoaventurasliving.com/events/don-quixote-ballet-naci
 onal-de-panama-in-playa-del-carmen
DTSTART:20260415T190000
DTEND:20260416T190000
LOCATION:Playa del Carmen\, Q.R.
END:VEVENT
END:VCALENDAR
