BEGIN:VCALENDAR
PRODID:-//eluceo/ical//2.0/EN
VERSION:2.0
CALSCALE:GREGORIAN
BEGIN:VEVENT
UID:riviera-event-511
DTSTAMP:20260421T121414Z
SUMMARY:Amy Winehouse Tribute at La Vagabunda de la 38
DESCRIPTION:Thursday April 16 | Amy Winehouse Tribute at La Vagabunda de la
  38 (Playa del Carmen)Relive the sound and soul of Amy Winehouse right her
 e in Playa del Carmen. La Vagabunda de la 38 hosts a special tribute night
  celebrating the iconic voice behind “Back to Black\,” “Valerie\,”
  and “Rehab.”Expect a set filled with her greatest hits\, vintage styl
 e\, and that unmistakable mix of jazz\, soul\, and raw emotion that made h
 er unforgettable. It’s the perfect excuse for a midweek night out — gr
 eat music\, great atmosphere\, and dinner with a show.La Vagabunda de la 3
 8 (38th Street &amp\; Flamingo)Thursday\, April 16 | 8:30 PM
URL:https://events.puertoaventurasliving.com/events/amy-winehouse-tribute-a
 t-la-vagabunda-de-la-38
DTSTART:20260416T203000
DTEND:20260416T223000
LOCATION:Playa del Carmen\, Q.R.
END:VEVENT
END:VCALENDAR
